BEGIN:VCALENDAR
VERSION:2.0
PRODID:-//wp-events-plugin.com//7.2.3.1//EN
BEGIN:VEVENT
UID:68@eventos503.com
DTSTART:20260322T030000Z
DTEND:20260322T030000Z
DTSTAMP:20260128T103813Z
URL:https://eventos503.com/events/grupo-firme/
SUMMARY:Grupo Firme
DESCRIPTION:\nEl Salvador se prepara para la fiesta más grande del 2026 
 🔥\nUna noche de banda\, sentimiento y canciones que se cantan a todo pu
 lmón 🎺🎤\n📆 21 de marzo de 2026\n📍 Estadio Cuscatlán\n🔞 Ev
 ento +12 (menores acompañados)\n*Precios aplican cargo extra de boleterí
 a*\nEntre las localidades disponibles destacan Mesa Experiencia\, con un p
 recio de $265\, y Mesa Platinum\, a $165. Para quienes buscan cercanía co
 n el escenario\, las opciones incluyen Silla VIP por $95 y Platea por $75.
 \nEn el área de graderíos\, los precios van desde $60 para Tribuna Norte
  y Sur\, $50 en Sombra Norte y Sur\, y $45 en General Norte y Sur. La prod
 uctora aclaró que los montos no incluyen los cargos adicionales por servi
 cio de boletería.\n🎟️ Compra tus boletos aquí 👉 https://www.smar
 tticket.fun/es/map/grupo-firme-la-ultima-peda/100\n#GrupoFirmeSV #LaUltima
 Peda #Cuscatlan\n\nPrecio:\n ($45)\n\n\nSitio Web\n\n\nOrganiza:\nSmart Ti
 cket\n\n\nUbicación:\nEstadio Cuscatlán\n\n\n Google Maps\n\n WAZE\n\n\n
 \nRedes Sociales:\n\nQuieres poner tus eventos:\nIngresar Eventos\n\n
ATTACH;FMTTYPE=image/jpeg:https://eventos503.com/wp-content/uploads/2026/0
 1/IG_Post11.png
CATEGORIES:Música en Vivo
LOCATION:Estadio Cuscatlán\, Estadio Cusca\, SAN SALVADOR\, San Salvador\,
  CP 1101\, San Salvador\, El Salvador
X-APPLE-STRUCTURED-LOCATION;VALUE=URI;X-ADDRESS=Estadio Cusca\, SAN SALVADO
 R\, San Salvador\, CP 1101\, San Salvador\, El Salvador;X-APPLE-RADIUS=100
 ;X-TITLE=Estadio Cuscatlán:geo:0,0
END:VEVENT
END:VCALENDAR